BEGIN:VCALENDAR
VERSION:2.0
PRODID:-//Offshore Technology Conference — Local Booth Builder &amp; Rentals - ECPv6.15.13.1//NONSGML v1.0//EN
CALSCALE:GREGORIAN
METHOD:PUBLISH
X-ORIGINAL-URL:https://otc2026.com
X-WR-CALDESC:Events for Offshore Technology Conference — Local Booth Builder &amp; Rentals
REFRESH-INTERVAL;VALUE=DURATION:PT1H
X-Robots-Tag:noindex
X-PUBLISHED-TTL:PT1H
BEGIN:VTIMEZONE
TZID:UTC
BEGIN:STANDARD
TZOFFSETFROM:+0000
TZOFFSETTO:+0000
TZNAME:UTC
DTSTART:20250101T000000
END:STANDARD
END:VTIMEZONE
BEGIN:VEVENT
DTSTART;TZID=UTC:20260222T090000
DTEND;TZID=UTC:20260225T235959
DTSTAMP:20260422T111126
CREATED:20251110T071900Z
LAST-MODIFIED:20251110T071900Z
UID:25893-1771750800-1772063999@otc2026.com
SUMMARY:GLOBAL WASTE MANAGEMENT SYMPOSIUM 2026
DESCRIPTION:GLOBAL WASTE MANAGEMENT SYMPOSIUM 2026 — Exhibitor Guide & Bold Options\nAbout GLOBAL WASTE MANAGEMENT SYMPOSIUM 2026\nGLOBAL WASTE MANAGEMENT SYMPOSIUM 2026 booth rental is the perfect opportunity for exhibitors in the waste management sectors. This is North America’s premier technical conference for knowledge sharing on innovations and solutions in waste management. Attendees can expect to connect with peers\, engage with industry experts\, and explore case studies that tackle the modern challenges in waste management. \n\nKey Details: Mar 22–24\, 2026\, 9:00 AM–5:00 PM\nLocation: Hyatt Regency\, Indian Wells Resort & Spa\nAddress: 44600 Indian Wells Ln\, Indian Wells\, CA 92210\, United States\nEvent Website\n\nIndustries & Audience: exhibitors and attendees from Waste Management – Recycling\, Water Management and Treatment\, Clean Energies – Renewable Energies\, Urban Equipment & Engineering\, Environmental Protection sectors. \nVenue & Location\nThe event will take place at the Hyatt Regency\, Indian Wells Resort & Spa\, located at 44600 Indian Wells Ln\, Indian Wells\, CA\, USA. The venue generally provides excellent access for exhibitors\, including standard move-in and dock access arrangements. \nIndian Wells CA: Our Services\nIn Indian Wells\, CA\, we DESIGN\, PRODUCE\, INSTALL & DISMANTLE turnkey booth rentals. Our services cover the entire scope of exhibiting needs\, including concept/design\, modular frames\, branded SEG graphics\, reception/storage\, and TV mounts\, ensuring a stress-free experience. \nCustom Booth Models\nWe offer a range of popular booth sizes that cater to various exhibitor needs: \n\n10×10 booths are ideal for businesses looking for a compact display to showcase essential products.\n10×20 booths provide extra space for engaging displays\, suitable for medium-sized businesses.\n20×20 booths offer a spacious layout for larger brands aiming to capture more attention.\n\n> For more details\, please check out our Snap Exhibitions Custom Booth Models. Our team provides full-service exhibit support\, ensuring everything is tailored to your needs. If you’re ready to elevate your exhibition experience\, contact our team today! \nFAQ\n\nWhat is GLOBAL WASTE MANAGEMENT SYMPOSIUM 2026 booth rental?\nGLOBAL WASTE MANAGEMENT SYMPOSIUM 2026 booth rental involves spaces specifically designed for exhibitors to present their solutions in waste management.\nWhat are the event hours for the symposium?\nThe event runs from Mar 22–24\, 2026\, daily from 9:00 AM to 5:00 PM.\nWhat booth sizes are recommended for Waste Management sectors?\nWe recommend 10×20 booths for maximum impact in the Waste Management sector.\nWhy is an aluminum booth better than wood?\nAluminum booths are more durable\, lighter\, and provide a modern appearance compared to traditional wood booths. They are also easier to transport and set up.\nHow can I get to Hyatt Regency in Indian Wells?\nHyatt Regency is centrally located in Indian Wells\, offering easy access via major highways.\nWhat can I expect from the GLOBAL WASTE MANAGEMENT SYMPOSIUM 2026?\nExpect valuable insights\, networking opportunities\, and the latest innovations from industry leaders.\nHow can SNAP EXHIBITIONS help ensure everything is perfect about my booth?\nWe offer comprehensive services from design to dismantling of your booth\, ensuring that every detail is managed seamlessly for a successful exhibit experience.\n\nReady to make your mark at the GLOBAL WASTE MANAGEMENT SYMPOSIUM 2026? Our booth rental services are designed to meet your every need. Contact us today to ensure a successful exhibiting experience!
URL:https://otc2026.com/event/global-waste-management-symposium-2026/
CATEGORIES:Clean Energies - Renewable Energies,Environmental Protection,Urban Equipment & Engineering,Waste Management - Recycling,Water Management and Treatment
END:VEVENT
BEGIN:VEVENT
DTSTART;TZID=UTC:20260223T090000
DTEND;TZID=UTC:20260226T235959
DTSTAMP:20260422T111126
CREATED:20251111T020722Z
LAST-MODIFIED:20251111T020722Z
UID:25974-1771837200-1772150399@otc2026.com
SUMMARY:AEROXCHANGE ANNUAL CONFERENCE 2026
DESCRIPTION:AEROXCHANGE ANNUAL CONFERENCE 2026 booth rental — Premium Exhibitor Guide & Custom Booth Options\nAbout AEROXCHANGE ANNUAL CONFERENCE 2026\nAEROXCHANGE ANNUAL CONFERENCE 2026 booth rental is essential for groups participating in this significant event focused on the future of aviation supply chain and MRO processes. Taking place from Feb 23–25\, 2026\, at Laguna Cliffs Marriott Resort & Spa in Dana Point\, CA\, this conference offers invaluable networking opportunities. Attendees can gain insights into the latest industry trends while exhibitors showcase their innovations. \nKey Details:Feb 23–25\, 9:00 AM–5:00 PMLaguna Cliffs Marriott Resort & Spa25135 Park Lantern\, Dana Point\, CA 92629\, United StatesEvent Website \nIndustries & Audience: Aeronautics – Space\, Subcontracting\, Suppliers & Partners\, Quality & Maintenance. \nVenue & Location\nLaguna Cliffs Marriott Resort & Spa\, located at 25135 Park Lantern\, Dana Point\, CA\, offers excellent accessibility for exhibitors\, with convenient move-in logistics likely available. Ensuring that your booth is perfectly situated will give you an advantage\, allowing attendees to easily engage with your offerings. \nDana Point\, CA: Our Services\nWe DESIGN\, PRODUCE\, INSTALL & DISMANTLE turnkey booth rentals in Dana Point\, CA. Our comprehensive services cover everything from concept design to modular frames and branded SEG graphics\, along with reception/storage options and TV mounts. We ensure your booth is not just functional but also engaging for the audience. \nCustom Booth Models\nExplore our Snap Exhibitions Custom Booth Models. Popular footprints include: \n\n10×10: Ideal for individual exhibitors looking to showcase their products with maximum visibility.\n10×20: A perfect fit for businesses wanting more space without overwhelming attendees.\n20×20: Suitable for brands aiming to make a significant impact with ample room for interaction.\n\nEach footprint is designed to align with the needs of sectors like aeronautics and subcontracting\, ensuring functionality and attractiveness. \nFor full-service exhibit support\, our expert team is dedicated to assisting you every step of the way\, from initial designs to final assembly. To ensure your exhibition is seamless\, contact our team today for a consultation. \nFAQ\n\nWhat is AEROXCHANGE ANNUAL CONFERENCE 2026 booth rental?AEROXCHANGE ANNUAL CONFERENCE 2026 booth rental is designed for exhibitors attending the conference to showcase their products effectively.\nWhat are the dates and hours of the event?The event runs from February 23rd to February 25th\, 2026\, from 9:00 AM to 5:00 PM each day.\nWhat are the recommended booth sizes for the Aeronautics sector?For the Aeronautics sector\, booths sized at 10×20 or 20×20 are recommended for optimal space and engagement.\nWhy is an aluminum booth better than wood?Aluminum booths are generally lighter\, easier to transport\, and more versatile than wood\, making them a preferred choice for many exhibitors.\nWhat can I expect from AEROXCHANGE ANNUAL CONFERENCE 2026?You can expect networking opportunities\, industry insights\, and an engaging space for showcasing innovations.\nHow can SNAP EXHIBITIONS help make everything perfect about their booth?SNAP EXHIBITIONS ensures every detail is tailor-made for each exhibitor’s needs\, from design to execution.\nWhy choose a booth rental for this conference?Renting a booth allows you to focus on your presentation and networking without the hassles of managing a build.\n\nAEROXCHANGE ANNUAL CONFERENCE 2026 booth rental provides the ultimate solution for exhibitors looking to make a strong impact. We invite you to contact SNAP EXHIBITIONS today to learn how we can help you achieve your exhibition goals!
URL:https://otc2026.com/event/aeroxchange-annual-conference-2026/
CATEGORIES:Aeronautics - Space,Quality & Maintenance,Subcontracting,Suppliers & Partners
END:VEVENT
BEGIN:VEVENT
DTSTART;TZID=UTC:20260225T090000
DTEND;TZID=UTC:20260227T235959
DTSTAMP:20260422T111126
CREATED:20251111T025752Z
LAST-MODIFIED:20251111T025752Z
UID:26087-1772010000-1772236799@otc2026.com
SUMMARY:TISSUE WORLD - MIAMI 2026
DESCRIPTION:TISSUE WORLD – MIAMI 2026 Booth Rental — Ultimate Exhibitor Guide & Custom Booth Options\nAbout TISSUE WORLD – MIAMI 2026\nTISSUE WORLD – MIAMI 2026 booth rental is the ideal opportunity for industry players in the Paper Industry\, especially those involved in Beauty & Personal Care. This trade show serves as the world’s meeting place for producers\, converters\, distributors\, and suppliers of soft hygienic tissue paper\, facilitating valuable connections and insights. \nKey Details: March 22-24\, 2026\, Miami Beach Convention Center\, 1901 Convention Center Drive\, United States. This year promises an impactful experience filled with discussions\, networking opportunities\, and insights into the tissue business.  \nThe Industries & Audience: This event attracts professionals from the Paper Industry\, Beauty\, and Personal Care. \nVenue & Location\nThe TISSUE WORLD – MIAMI 2026 will be hosted at the Miami Beach Convention Center\, located at 1901 Convention Center Drive\, United States. Attendees can expect organized logistics\, which typically include efficient move-in windows and cargo dock access\, making setup and dismantle straightforward. \nFor inquiries\, feel free to call us. \nMiami: Our Services\nWe DESIGN\, PRODUCE\, INSTALL & DISMANTLE turnkey booth rentals in this city. Our booths are equipped with concept/design features\, modular frames\, branded SEG graphics\, and provisions for reception/storage and TV mounts\, ensuring a seamless exhibiting experience. \nCustom Booth Models\nAt Snap Exhibitions\, we offer various popular footprints suitable for varying needs\, including 10×10\, 10×20\, and 20×20 configurations. Each model is designed to fit exhibitors from the Paper Industry and related sectors\, providing a striking presence on the show floor. \nFor comprehensive support\, we also provide full-service exhibit support. \nIf you’re looking for an exceptional exhibiting experience\, contact our team to discuss how we can assist you in creating the perfect setup. \nFAQ\nWhat is TISSUE WORLD – MIAMI 2026 booth rental?TISSUE WORLD – MIAMI 2026 booth rental offers spaces for businesses in the tissue industry to showcase their products and connect with key market players. \nWhen are the event dates?The event is scheduled for March 22-24\, 2026. \nWhat booth sizes are recommended for the Paper Industry?For the Paper Industry\, common booth sizes such as 10×10 or 10×20 fit well\, allowing ample space for engagement while maintaining an impactful presence. \nWhy is an aluminum booth better than wood?Aluminum booths are typically lighter\, more durable\, and offer a sleek look compared to traditional wooden options\, enhancing your overall booth aesthetics. \nWhat can I expect in Miami?Miami offers a vibrant environment with excellent amenities\, making it a perfect location for a trade show like TISSUE WORLD. \nHow can SNAP EXHIBITIONS help ensure my booth is perfect?We specialize in turnkey booth rentals that encompass design\, installation\, and logistics\, ensuring a seamless experience from start to finish. \nIn conclusion\, getting your TISSUE WORLD – MIAMI 2026 booth rental is a vital step towards making impactful connections in the industry. Let’s make your exhibiting experience memorable — contact our team today!
URL:https://otc2026.com/event/tissue-world-miami-2026/
CATEGORIES:Beauty & Personal Care,Paper Industry
END:VEVENT
END:VCALENDAR