BEGIN:VCALENDAR
VERSION:2.0
PRODID:-//Offshore Technology Conference — Local Booth Builder &amp; Rentals - ECPv6.15.13.1//NONSGML v1.0//EN
CALSCALE:GREGORIAN
METHOD:PUBLISH
X-WR-CALNAME:Offshore Technology Conference — Local Booth Builder &amp; Rentals
X-ORIGINAL-URL:https://otc2026.com
X-WR-CALDESC:Events for Offshore Technology Conference — Local Booth Builder &amp; Rentals
REFRESH-INTERVAL;VALUE=DURATION:PT1H
X-Robots-Tag:noindex
X-PUBLISHED-TTL:PT1H
BEGIN:VTIMEZONE
TZID:UTC
BEGIN:STANDARD
TZOFFSETFROM:+0000
TZOFFSETTO:+0000
TZNAME:UTC
DTSTART:20250101T000000
END:STANDARD
END:VTIMEZONE
BEGIN:VEVENT
DTSTART;TZID=UTC:20260420T090000
DTEND;TZID=UTC:20260425T235959
DTSTAMP:20260423T020322
CREATED:20251110T072103Z
LAST-MODIFIED:20251110T072103Z
UID:25898-1776675600-1777161599@otc2026.com
SUMMARY:FDIC - FIRE DEPARTMENTS INSTRUCTORS CONFERENCE 2026
DESCRIPTION:FDIC – FIRE DEPARTMENTS INSTRUCTORS CONFERENCE 2026 booth rental — Essential Solutions\nAbout FDIC – FIRE DEPARTMENTS INSTRUCTORS CONFERENCE 2026\nVenue & Location\nIndianapolis IN: Our Services\nCustom Booth Models\nFAQ\nFDIC – FIRE DEPARTMENTS INSTRUCTORS CONFERENCE 2026\nFDIC – FIRE DEPARTMENTS INSTRUCTORS CONFERENCE 2026 booth rental solutions provide an excellent opportunity for exhibitors looking to make a significant impact. This event gathers the largest audience of decision-makers\, trainers\, and experts from the fire and security sectors\, offering valuable networking and relationship development opportunities. Attendees will benefit from engaging in informative sessions\, exploring innovative products\, and establishing crucial connections. \n\nKey Details:\nDate: Jan 19–21\, 2026\, 9:00 AM–5:00 PM\nLocation: Indiana Convention Center\nAddress: 100 S Capitol Ave\, Indianapolis\, IN 46225\, USA\nCountry: United States\n\nIndustries & Audience: Security – Risk Management\, Building & Construction\, Health Professionals \nVenue & Location\nThe Indiana Convention Center\, located at 100 S Capitol Ave\, Indianapolis\, IN 46225\, USA\, is poised to host the FDIC 2026. This venue offers excellent logistics for exhibitors\, including ample move-in windows and dock access\, ensuring a seamless setup experience. \nFor inquiries\, please contact us at the venue directly. \nIndianapolis IN: Our Services\nWe DESIGN\, PRODUCE\, INSTALL & DISMANTLE turnkey booth rentals in Indianapolis IN. Our offerings include concept design\, modular frames\, branded SEG graphics\, reception/storage solutions\, TV mounts\, and on-site installation and dismantling services. \nCustom Booth Models\nDiscover our Snap Exhibitions Custom Booth Models tailored to your needs. Popular footprints include: \n\n10×10: Ideal for startups and smaller brands\, these booths are perfect for limited space exhibitions.\n10×20: This size offers more visibility and allows for a larger product showcase\, ideal for established brands.\n20×20: Optimize your impact with expansive booth space\, perfect for major players in the Security – Risk Management and Health Professionals sectors.\n\nOur full-service exhibit support ensures that your exhibit stands out and meets all your business needs. \nIf you want to bring your exhibit vision to life\, contact our team today! We look forward to assisting you in achieving a memorable presence at FDIC. \nFAQ\n\nWhat is FDIC – FIRE DEPARTMENTS INSTRUCTORS CONFERENCE 2026 booth rental?FDIC – FIRE DEPARTMENTS INSTRUCTORS CONFERENCE 2026 booth rental is a service that provides exhibitors with custom-designed booths to enhance their presence at the event.\nWhat are the event hours for FDIC 2026?FDIC 2026 will take place from January 19 to 21\, 2026\, from 9:00 AM to 5:00 PM each day.\nWhat booth sizes are recommended for the Security sector?We recommend 10×20 or 20×20 booths for the Security sector to allow for effective product demonstrations and visitor engagement.\nWhy is an aluminum booth better than wood?Aluminum booths are lightweight\, more durable\, and easier to transport\, making them a preferred choice for many exhibitors.\nWhat can I expect at FDIC in Indianapolis?FDIC in Indianapolis will feature a vast array of networking opportunities and educational sessions designed for fire industry professionals.\nHow can SNAP EXHIBITIONS ensure a perfect presentation for my booth?We specialize in turnkey booth rentals\, providing all necessary services from design to installation to ensure your booth is perfectly executed.\n\nFDIC – FIRE DEPARTMENTS INSTRUCTORS CONFERENCE 2026 booth rental solutions will set you apart from the competition. We invite you to contact us today to learn more about how we can help make your exhibition a success!
URL:https://otc2026.com/event/fdic-fire-departments-instructors-conference-2026/
CATEGORIES:Building & Construction,Health Professionals,Security - Risk Management
END:VEVENT
BEGIN:VEVENT
DTSTART;TZID=UTC:20260421T090000
DTEND;TZID=UTC:20260423T235959
DTSTAMP:20260423T020322
CREATED:20251110T170010Z
LAST-MODIFIED:20251110T170010Z
UID:25932-1776762000-1776988799@otc2026.com
SUMMARY:INTERPHEX '2026
DESCRIPTION:INTERPHEX ‘2026 booth rental — Ultimate Guide & Custom Booth Options\n#show\n#venue\n#city-services\n#booth-models\n#faq\n\nINTERPHEX ‘2026 — Your Exhibitor Guide\nINTERPHEX ‘2026 booth rental showcases the ideal platform for your participation in the largest Pharmaceuticals and Cosmetology expo. Taking place from February 22–24\, 2026\, at the Jacob K. Javits Convention Center in New York\, NY\, experience an event that brings together top industry professionals. Visitors and exhibitors alike gain invaluable insights and network opportunities to drive success in their businesses. \nJoin us to experience science through commercialization\, featuring advancements in pharmaceuticals\, biotechnology\, and device manufacturing. This event serves professionals from a broad range of sectors\, including Pharmaceuticals & Cosmetology\, Health Professionals. \n\nKey Details:\nDate: Feb 22–24\, 2026\nLocation: Jacob K. Javits Convention Center\nAddress: 655 West 34th Street\, New York\, NY 10001-1188\nCountry: United States\n\n\n\nVenue & Location\nThe event will be held at the Jacob K. Javits Convention Center\, located at 655 West 34th Street\, New York\, NY\, USA. This centrally located venue offers excellent access for loading and unloading\, making it ideal for smooth exhibition logistics. If you need assistance\, feel free to reach out at the provided contact number. \n\n\nINTERPHEX ‘2026 City Services\nWe DESIGN\, PRODUCE\, INSTALL & DISMANTLE turnkey booth rentals in New York\, NY. Our offerings cover everything from initial concept and design to modular frames\, branded SEG graphics\, reception/storage options\, TV mounts\, and expert on-site installation and dismantling. \n\n\nCustom Booth Models\nWe provide a range of booth footprints tailored for industry attendees\, including: \n\nSnap Exhibitions Custom Booth Models (popular sizes: 10×10\, 10×20\, and 20×20).\n10×10 booths\, ideal for small businesses looking to make a high-impact statement.\n10×20 models with more space for detailed presentations and interaction.\n20×20 configurations that provide ample space for engaging demonstrations.\n\nFor comprehensive support in your exhibition efforts\, check out our full-service exhibit support. \n\n\nFAQ\nWhat is INTERPHEX ‘2026 booth rental?\nINTERPHEX ‘2026 booth rental ensures you have a dedicated\, turnkey exhibit space configured to your specific needs. We handle everything from design to setup. \nWhat are the event hours for INTERPHEX ‘2026?\nThe event runs from February 22–24\, 2026. \nWhat booth sizes are recommended for attendees in the Pharmaceuticals & Cosmetology sector?\nSizes like 10×20 and 20×20 are optimal\, providing enough space for product displays and attendee interaction. \nWhy is an aluminum booth better than wood?\nAluminum booths are lighter\, more durable\, and provide better modular solutions compared to wooden exhibits. \nWhat is unique about New York for trade shows?\nNew York hosts one of the largest trade show venues and has a rich network of industry professionals. \nHow does SNAP EXHIBITIONS ensure a perfect booth?\nOur team guarantees a perfect booth setup through meticulous design and professional support\, ensuring your exhibition is a success. \nWhat benefits do exhibitors gain at INTERPHEX ‘2026?\nExhibitors gain valuable industry contacts and insights\, alongside exposure to new technologies and solutions in the pharmaceutical sector. \n\nINTERPHEX ‘2026 booth rental is your pathway to a successful exhibition experience. For more details\, please contact our team.
URL:https://otc2026.com/event/interphex-2026/
CATEGORIES:Health Professionals,Pharmaceuticals & Cosmetology
END:VEVENT
BEGIN:VEVENT
DTSTART;TZID=UTC:20260421T090000
DTEND;TZID=UTC:20260423T235959
DTSTAMP:20260423T020322
CREATED:20251111T015256Z
LAST-MODIFIED:20251111T015256Z
UID:25953-1776762000-1776988799@otc2026.com
SUMMARY:FIELD SERVICE 2026
DESCRIPTION:FIELD SERVICE 2026 booth rental — Ultimate Exhibitor Guide & Custom Booth Options\nAbout FIELD SERVICE 2026\nFIELD SERVICE 2026 booth rental is the perfect solution for exhibitors looking to make a significant impact. This event gathers thousands of leaders from the service and support sectors to discuss customer success and management strategies. Attendees gain actionable insights\, networking opportunities\, and access to renowned speakers who share dynamic learning formats tailored to their needs. \nKey Details:Start Date: Apr 22–24\, 9:00 AM–5:00 PMLocation: JW Marriott Desert Springs Resort & SpaAddress: 74855 Country Club Drive\, Palm Desert\, CA\, 92260\, United States \nIndustries & Audience: Marketing & Selling\, Decision Helping Tools & Management Services\, Retail & Shop Fitting Equipment & Service\, Quality & Maintenance \nVenue & Location\nThe FIELD SERVICE 2026 will take place at the JW Marriott Desert Springs Resort & Spa\, situated in Palm Desert\, California. The venue offers convenient logistics including ample move-in windows and dock access for exhibitors. You can reach the venue via phone if needed. \nPalm Desert CA: Our Services\nWe design\, produce\, install\, and dismantle turnkey booth rentals in this city. Our services are comprehensive\, covering concepts\, modular frames\, branded SEG graphics\, reception areas\, storage\, TV mounts\, and on-site installation and dismantling (I&D). \nCustom Booth Models\nWe offer a variety of booth sizes to fit any exhibitor’s needs: 10×10\, 10×20\, and 20×20. These sizes are ideal for sectors such as Marketing & Selling and Quality & Maintenance\, enhancing visibility and engagement with attendees. To explore our designs\, check out the Snap Exhibitions Custom Booth Models. \nFor those requiring full-service exhibit support\, we provide complete solutions\, helping every step of the way. Learn more about our full-service exhibit support\, and don’t hesitate to contact our team for personalized assistance. \nFAQ\nQ1: What is FIELD SERVICE 2026 booth rental?A1: FIELD SERVICE 2026 booth rental provides tailored solutions for exhibitors\, ensuring impactful participation at the event. \nQ2: When are the event hours?A2: FIELD SERVICE 2026 runs from April 22–24\, with doors open from 9:00 AM to 5:00 PM. \nQ3: What are some recommended booth sizes for the Marketing & Selling sector?A3: We recommend starting with a 10×10 booth for small brands or a 10×20 for more visibility. \nQ4: Why is an aluminum booth better than wood?A4: Aluminum booths are lighter\, more durable\, and easier to transport compared to wooden options\, making them ideal for frequent events. \nQ5: What can you tell me about Palm Desert as a trade show destination?A5: Palm Desert features scenic views and a comfortable climate\, making it a popular location for industry gatherings. \nQ6: How can SNAP EXHIBITIONS help me make everything perfect about my booth?A6: We provide comprehensive support\, from design to dismantling\, ensuring a smooth experience for exhibitors. \nQ7: Is there an official website for FIELD SERVICE 2026?A7: Unfortunately\, there isn’t a provided link for more information on the event. \nChoose FIELD SERVICE 2026 booth rental for your next event. Let us handle the details while you focus on connecting with your audience and maximizing impact. To get started\, contact our team today!
URL:https://otc2026.com/event/field-service-2026/
CATEGORIES:Decision Helping Tools & Management Services,Marketing & Selling,Quality & Maintenance,Retail & Shop Fitting Equipment & Service
END:VEVENT
BEGIN:VEVENT
DTSTART;TZID=UTC:20260422T090000
DTEND;TZID=UTC:20260424T235959
DTSTAMP:20260423T020322
CREATED:20251110T071409Z
LAST-MODIFIED:20251110T071409Z
UID:25882-1776848400-1777075199@otc2026.com
SUMMARY:DEALERPOINT 2026
DESCRIPTION:DEALERPOINT 2026 booth rental — Ultimate Exhibitor Guide & Custom Booth Options\nAbout DEALERPOINT 2026\nDEALERPOINT 2026 booth rental provides a unique opportunity for exhibitors in Orlando\, Florida\, to connect with key players from the auto retail industry. The event is designed for auto retail solution providers to engage with top dealership owners and decision-makers in a collaborative environment. As you navigate through this event\, expect to establish valuable relationships that can power your business forward. \nKey Details: \n\nDate: Nov 18–19\, 2026\nLocation: Hyatt Regency Grand Cypress Resort\nAddress: 1 Grand Cypress Blvd\, Orlando\, FL 32836\, USA\nCountry: United States\nLearn more about the event\n\nIndustries & Audience: General Automobile\, Automotive Engineering – Systems & Components\, Workshop & Service Station Equipment\, Marketing & Selling. \nVenue & Location\nThe event will take place at the Hyatt Regency Grand Cypress Resort\, situated at 1 Grand Cypress Blvd\, Orlando\, Florida. The venue offers optimal logistics for exhibitors\, including convenient move-in windows and dock access. Make sure to prepare accordingly to maximize your engagement with attendees. \nOrlando\, FL: Our Services\nIn Orlando\, we DESIGN\, PRODUCE\, INSTALL & DISMANTLE turnkey booth rentals. Our comprehensive services include concept/design\, modular frames\, branded SEG graphics\, as well as reception/storage setups and TV mounts. Our focus is to create functional spaces that cater to the needs of exhibitors and attendees alike. \nCustom Booth Models\nWe specialize in various booth sizes to ensure effective engagement at the DEALERPOINT 2026. Consider these popular footprints for your exhibit: \n\n10×10 Booth: Ideal for startups and those looking to make their first appearance.\n10×20 Booth: A versatile option offering more space for interactivity.\n20×20 Booth: Best suited for established brands aiming to make a bold statement.\n\nAll these booth designs are customizable to fit the automotive sector. Explore our Snap Exhibitions Custom Booth Models that can help elevate your show presence. \nFor comprehensive support\, you can rely on our full-service exhibit support to ensure a seamless experience. If you’re ready to take the plunge\, contact our team today! \nFAQ\n\nWhat is the significance of DEALERPOINT 2026 booth rental?\nDEALERPOINT 2026 booth rental offers exhibitors a strategic platform to connect with key players in the auto retail environment.\nWhat are the hours for DEALERPOINT 2026?\nThe event runs from Nov 18 to Nov 19\, 2026. Specific timing details are yet to be finalized.\nWhat booth sizes are recommended for the automotive sectors at this event?\nSizes ranging from 10×10 to 20×20 are highly recommended based on your engagement goals.\nWhy is an aluminum booth better than a wood booth?\nAluminum booths are typically lighter\, easier to assemble\, and offer more durability compared to wood options.\nWhat can I expect from the venue in Orlando?\nExpect a well-equipped space at the Hyatt Regency Grand Cypress\, featuring ample logistical support.\nWhat opportunities does DEALERPOINT 2026 offer for networking?\nThe event is perfect for meeting dealership owners and decision-makers in the automotive space.\nHow can SNAP EXHIBITIONS help make everything perfect about my booth?\nWe create tailored booth rentals designed for your needs\, ensuring your experience at DEALERPOINT 2026 is flawless.\n\nFor the best in DEALERPOINT 2026 booth rental\, reach out today to see how we can elevate your event experience! Visit https://snapexhibitions.com/contact-snap-exhibitions/ to get started.
URL:https://otc2026.com/event/dealerpoint-2026/
CATEGORIES:Automotive Engineering - Systems & Components,General Automobile,Marketing & Selling,Workshop & Service Station Equipment
END:VEVENT
END:VCALENDAR