BEGIN:VCALENDAR
VERSION:2.0
PRODID:-//Offshore Technology Conference — Local Booth Builder &amp; Rentals - ECPv6.15.13.1//NONSGML v1.0//EN
CALSCALE:GREGORIAN
METHOD:PUBLISH
X-WR-CALNAME:Offshore Technology Conference — Local Booth Builder &amp; Rentals
X-ORIGINAL-URL:https://otc2026.com
X-WR-CALDESC:Events for Offshore Technology Conference — Local Booth Builder &amp; Rentals
REFRESH-INTERVAL;VALUE=DURATION:PT1H
X-Robots-Tag:noindex
X-PUBLISHED-TTL:PT1H
BEGIN:VTIMEZONE
TZID:UTC
BEGIN:STANDARD
TZOFFSETFROM:+0000
TZOFFSETTO:+0000
TZNAME:UTC
DTSTART:20250101T000000
END:STANDARD
END:VTIMEZONE
BEGIN:VEVENT
DTSTART;TZID=UTC:20260516T090000
DTEND;TZID=UTC:20260519T235959
DTSTAMP:20260420T143059
CREATED:20251111T024455Z
LAST-MODIFIED:20251111T024455Z
UID:26058-1778922000-1779235199@otc2026.com
SUMMARY:NRA SHOW '2026
DESCRIPTION:NRA SHOW ‘2026 booth rental — Impactful Exhibitor Guide & Custom Booth Options\nAbout NRA SHOW ‘2026\nVenue & Location\nChicago IL: Our Services\nCustom Booth Models\nFAQ\n\nNRA SHOW ‘2026: Your Gateway to Success in Foodservice\nNRA SHOW ‘2026 booth rental offers a unique opportunity to make your mark at the largest gathering of foodservice professionals in the western hemisphere. As exhibitors\, you’ll connect with thousands of attendees looking for innovations in the restaurant\, foodservice\, and hospitality industry. This show delivers essential insights\, networking opportunities\, and showcases the latest trends. Don’t miss out on this incredible chance to highlight your brand! \nKey Details: Apr 22–25\, 9:00 AM–5:00 PM\, McCormick Place Convention Center\, 2301 S. Lake Shore Drive\, Chicago\, Illinois\, United States. \nIndustries & Audience: Catering & Hospitality Industries\, Food Processing Industries\, Wine & Spirits – Viticulture & Enology – Beer. \n\n\nVenue & Location\nMcCormick Place Convention Center\, located at 2301 S. Lake Shore Drive\, Chicago\, Illinois\, is an ideal venue for large-scale trade shows. Attendees will find central access and suitable logistics for move-in and setup. If you have any inquiries\, feel free to contact us at the venue. \n\n\nChicago IL: Our Turnkey Booth Rental Services\nIn Chicago IL\, we DESIGN\, PRODUCE\, INSTALL & DISMANTLE turnkey booth rentals. Our services include concept/design\, modular frames\, branded SEG graphics\, reception/storage services\, and TV mounts\, provided on-site for your convenience. We ensure every detail is taken care of\, guiding you from start to finish. \n\n\nCustom Booth Models for NRA SHOW ‘2026\nExplore our Snap Exhibitions Custom Booth Models\, designed specifically for your exhibiting success. Popular footprints include: \n\n10×10: Perfect for start-up businesses looking to maximize visibility.\n10×20: A great choice for brands wanting to establish a more significant presence.\n20×20: Ideal for companies within the hospitality and food sectors seeking more space for engagement.\n\nConsider our full-service exhibit support for an all-inclusive experience. To create your unique space\, contact our team today! \n\n\nFAQ\nWhat is NRA SHOW ‘2026 booth rental?\nYour chance to secure a professionally designed booth space at one of the most important gatherings in the foodservice industry. \nWhat are the event hours and dates for NRA SHOW ‘2026?\nThe show runs from April 22–25\, 9:00 AM–5:00 PM. \nWhat are the recommended booth sizes for the catering and hospitality sectors?\nWe typically suggest 10×10 or 10×20 booths for smaller displays and 20×20 for extensive showcases and interactive experiences. \nWhy is an aluminum booth better than wood?\nAluminum booths are lighter\, more durable\, and allow for modular designs\, making them ideal for effective\, agile setups. \nHow does Snap Exhibitions deliver in Chicago?\nWe are committed to providing superior booth solutions tailored to your needs in this city. \nHow can Snap Exhibitions help make everything perfect about my booth?\nWe offer comprehensive services that encompass booth design\, production\, and installation tailored for your success. \n\nDiscover how our NRA SHOW ‘2026 booth rental can set you apart from the competition and ensure your exhibiting experience is seamless and impactful. For more information\, contact our team today!
URL:https://otc2026.com/event/nra-show-2026/
CATEGORIES:Catering & Hospitality Industries,Food Processing Industries,Wine & Spirits - Viticulture & Enology - Beer
END:VEVENT
END:VCALENDAR