BEGIN:VCALENDAR
VERSION:2.0
PRODID:-//Offshore Technology Conference — Local Booth Builder &amp; Rentals - ECPv6.15.13.1//NONSGML v1.0//EN
CALSCALE:GREGORIAN
METHOD:PUBLISH
X-WR-CALNAME:Offshore Technology Conference — Local Booth Builder &amp; Rentals
X-ORIGINAL-URL:https://otc2026.com
X-WR-CALDESC:Events for Offshore Technology Conference — Local Booth Builder &amp; Rentals
REFRESH-INTERVAL;VALUE=DURATION:PT1H
X-Robots-Tag:noindex
X-PUBLISHED-TTL:PT1H
BEGIN:VTIMEZONE
TZID:UTC
BEGIN:STANDARD
TZOFFSETFROM:+0000
TZOFFSETTO:+0000
TZNAME:UTC
DTSTART:20240101T000000
END:STANDARD
END:VTIMEZONE
BEGIN:VEVENT
DTSTART;TZID=UTC:20251205T090000
DTEND;TZID=UTC:20251207T235959
DTSTAMP:20260420T144459
CREATED:20251110T062140Z
LAST-MODIFIED:20251110T062140Z
UID:25778-1764925200-1765151999@otc2026.com
SUMMARY:HARVEST FESTIVAL - ORIGINAL ART & CRAFT - POMONA 2025
DESCRIPTION:HARVEST FESTIVAL – ORIGINAL ART & CRAFT – POMONA 2025 booth rental — Premium Exhibitor Guide & Custom Booth Options\nAbout HARVEST FESTIVAL – ORIGINAL ART & CRAFT – POMONA 2025\nVenue & Location\nPomona CA: Our Services\nCustom Booth Models\nFAQ\nAbout HARVEST FESTIVAL – ORIGINAL ART & CRAFT – POMONA 2025\nHARVEST FESTIVAL – ORIGINAL ART & CRAFT – POMONA 2025 booth rental is a fantastic opportunity for exhibitors. This premier event showcases artisanal excellence and offers visitors a chance to explore hundreds of exhibitors showcasing American handmade items\, including beautiful jewelry\, clothing\, specialty foods\, photography\, original art\, hand-turned wood\, ceramics\, and more. Participating in this festival allows exhibitors to connect with a diverse audience passionate about craftsmanship. \nKey Details:\nDate: Sep 2–3\, 2025\, 10:00 AM–5:00 PM\nLocation: Fairplex\, 1101 W. McKinley Avenue\, Pomona\, CA 91768\, United States. \nIndustries & Audience: Handicraft Products\, Gifts & Souvenirs\, Decoration\, Home & Office Design\, Furniture\, Lighting\, Fashion – Clothing. \nVenue & Location\nWe invite you to Fairplex\, located at 1101 W. McKinley Avenue\, Pomona\, CA\, which provides excellent logistics for move-in and dock access for exhibitors. With accessibility for all\, it’s the perfect venue for showcasing handmade artistry. \nIf you have questions\, feel free to reach us at our contact number. \nPomona CA: Our Services\nWe DESIGN\, PRODUCE\, INSTALL & DISMANTLE turnkey booth rentals in Pomona CA. Our scope includes concept/design\, modular frames\, branded SEG graphics\, reception/storage areas\, and TV mounts. With our complete service approach\, we ensure a hassle-free experience for all exhibitors. \nCustom Booth Models\nExplore our Snap Exhibitions Custom Booth Models suitable for your needs. Popular footprints like 10×10\, 10×20\, and 20×20 fit various exhibitors from the handicraft and home design sectors effectively. A 10×10 booth is ideal for small artisans\, while larger 10×20 and 20×20 options cater to those wanting an impactful presence. \nOur commitment to full-service exhibit support means we cover everything from design to dismantling. \nIf you’re interested in our services\, contact our team for personalized assistance. \nFAQ\nWhat is HARVEST FESTIVAL – ORIGINAL ART & CRAFT – POMONA 2025 booth rental?\nHARVEST FESTIVAL – ORIGINAL ART & CRAFT – POMONA 2025 booth rental is an opportunity for exhibitors to showcase handmade creations at an esteemed event in Pomona. \nWhen is the event?\nThe event takes place from Sep 2–3\, 2025\, from 10:00 AM to 5:00 PM. \nWhat are recommended booth sizes for handicraft sectors?\nSizes like 10×10 for small displays and 20×20 for more prominent brands are recommended based on presence and audience engagement. \nWhy is an aluminum booth better than wood?\nAluminum booths are lighter\, more durable\, and offer greater flexibility in design compared to traditional wood\, making them ideal for modern exhibitions. \nWhat should I know about Pomona for the event?\nPomona is easily accessible with plenty of amenities\, making it perfect for exhibitions. \nHow can HARVEST FESTIVAL support my booth?\nWe provide seamless support throughout the event\, ensuring an exceptional exhibitor experience. \nDon’t miss the opportunity at HARVEST FESTIVAL – ORIGINAL ART & CRAFT – POMONA 2025 booth rental. For more information\, contact us today!
URL:https://otc2026.com/event/harvest-festival-original-art-craft-pomona-2025/
CATEGORIES:Decoration,Fashion - Clothing,Furniture,Gifts & Souvenirs,Handicraft Products,Home & Office Design,Lighting
END:VEVENT
BEGIN:VEVENT
DTSTART;TZID=UTC:20251205T090000
DTEND;TZID=UTC:20251207T235959
DTSTAMP:20260420T144459
CREATED:20251110T062918Z
LAST-MODIFIED:20251110T062918Z
UID:25795-1764925200-1765151999@otc2026.com
SUMMARY:FREDERICKSBURG HOLIDAY CRAFT SHOW 2025
DESCRIPTION:Fredericksburg Holiday Craft Show 2025 Booth Rental — Essential Experience\nAbout Fredericksburg Holiday Craft Show 2025\nVenue & Location\nFredericksburg VA: Our Services\nCustom Booth Models\nFAQ\nAbout Fredericksburg Holiday Craft Show 2025\nFredericksburg Holiday Craft Show 2025 booth rental offers a unique opportunity for exhibitors to engage with an audience passionate about craftsmanship. Attendees can explore more than 350 crafters\, local shops\, and vendors featuring exceptional hand-crafted décor\, home goods\, jewelry\, bath and body products\, gourmet delights\, and more. This event is a must-attend for anyone in the handicraft\, decoration\, and home design sectors. \nKey Details:\nSep 5–7\, 9:00 AM–5:00 PM\nFredericksburg Expo & Conference Center\n2371 Carl D. Silver Parkway\, Fredericksburg\, VA 22401\, United States\nFor more information\, visit the event website. \nIndustries & Audience: Handicraft Products\, Decoration\, Home & Office Design\, Furniture\, Lighting\, Gifts & Souvenirs\, Art and Antiques. \nVenue & Location\nThe Fredericksburg Expo & Conference Center\, located at 2371 Carl D. Silver Parkway\, is the perfect venue for such a vibrant craft show. Exhibitors can expect smooth logistics with ample access for setup and dismantling. While specific dock access details are not provided\, the venue ensures easy in-and-out for all participants. \nFredericksburg VA: Our Services\nIn Fredericksburg VA\, we DESIGN\, PRODUCE\, INSTALL & DISMANTLE turnkey booth rentals for the Fredericksburg Holiday Craft Show 2025. Our comprehensive offerings encompass concept and design\, modular frames\, branded SEG graphics\, reception/storage solutions\, TV mounts\, and on-site installation and dismantling. We understand the need for custom solutions tailored to your specific exhibit goals. \nCustom Booth Models\nExplore our Snap Exhibitions Custom Booth Models\, which are designed to cater to a variety of exhibitor needs at the Fredericksburg Holiday Craft Show 2025. Popular footprints such as 10×10\, 10×20\, and 20×20 are available\, providing adequate space for showcasing your products efficiently. These setups are ideal for exhibitors in the handicraft and home design sectors\, allowing for optimal visibility and traffic flow. \nTake advantage of our full-service exhibit support\, ensuring your booth stands out at the event. \nFAQ\nWhat is the Fredericksburg Holiday Craft Show 2025 booth rental process?\nOur Fredericksburg Holiday Craft Show 2025 booth rental process is streamlined and straightforward\, ensuring a hassle-free experience for exhibitors. \nWhat are the hours and dates for the event?\nThe event runs from September 5 to 7\, 2025\, daily from 9:00 AM to 5:00 PM. \nWhat recommended booth sizes are suitable for decoration and handicraft sectors?\nWe recommend utilizing booth sizes of 10×10 or 10×20 for optimal display of your products. These sizes balance space efficiency with the need for engaging displays. \nWhy is an aluminum booth better than wood?\nAluminum booths are generally lighter\, more durable\, and easier to transport compared to wooden options\, making them a preferred choice for many exhibitors. \nWhat can we do to maximize our experience at the Fredericksburg Holiday Craft Show?\nMaximize your experience by preparing your setup in advance\, utilizing engaging displays\, and ensuring that your booth showcases your unique offerings effectively. \nHow can SNAP EXHIBITIONS help make everything perfect about your booth?\nAt SNAP EXHIBITIONS\, we specialize in turnkey booth rentals\, offering tailored solutions that include design\, setup\, and dismantling\, ensuring your presence at the Fredericksburg Holiday Craft Show 2025 is impeccable. \nFor seamless experience and premium booth rentals\, visit our website and contact our team today!
URL:https://otc2026.com/event/fredericksburg-holiday-craft-show-2025/
CATEGORIES:Art and Antiques,Decoration,Furniture,Gifts & Souvenirs,Handicraft Products,Home & Office Design,Lighting
END:VEVENT
END:VCALENDAR