BEGIN:VCALENDAR
VERSION:2.0
PRODID:-//Offshore Technology Conference — Local Booth Builder &amp; Rentals - ECPv6.15.13.1//NONSGML v1.0//EN
CALSCALE:GREGORIAN
METHOD:PUBLISH
X-WR-CALNAME:Offshore Technology Conference — Local Booth Builder &amp; Rentals
X-ORIGINAL-URL:https://otc2026.com
X-WR-CALDESC:Events for Offshore Technology Conference — Local Booth Builder &amp; Rentals
REFRESH-INTERVAL;VALUE=DURATION:PT1H
X-Robots-Tag:noindex
X-PUBLISHED-TTL:PT1H
BEGIN:VTIMEZONE
TZID:UTC
BEGIN:STANDARD
TZOFFSETFROM:+0000
TZOFFSETTO:+0000
TZNAME:UTC
DTSTART:20240101T000000
END:STANDARD
END:VTIMEZONE
BEGIN:VEVENT
DTSTART;TZID=UTC:20250917T090000
DTEND;TZID=UTC:20250921T235959
DTSTAMP:20260420T160958
CREATED:20251111T025323Z
LAST-MODIFIED:20251111T025323Z
UID:26077-1758099600-1758499199@otc2026.com
SUMMARY:AFFORDABLE ART FAIR - NEW YORK 2025
DESCRIPTION:AFFORDABLE ART FAIR – NEW YORK 2025 booth rental — Impactful Exhibitor Guide & Custom Booth Options\nAbout AFFORDABLE ART FAIR – NEW YORK 2025\nVenue & Location\nNew York\, NY: Our Services\nCustom Booth Models\nFAQ\nJoin us at the AFFORDABLE ART FAIR – NEW YORK 2025 for an unforgettable experience showcasing affordable\, contemporary original art from diverse galleries and dealers. This international art exhibition offers an opportunity for exhibitors to connect with art enthusiasts and collectors looking for unique pieces. Whether you’re aiming to increase your brand visibility or engage with potential buyers\, our booth rental services can elevate your presence at this prestigious event. \nKey Details:September 12–14\, 9:00 AM–5:00 PMMetropolitan Pavilion125 West 18th Street\, New York\, NY\, United StatesAffordable Art Fair Website \nThis event attracts a diverse audience from the Art and Antiques\, Photography sectors\, making it an ideal platform for focused marketing efforts. \nAFFORDABLE ART FAIR – NEW YORK 2025 booth rental: Reach Your Goals\nAs exhibitors\, our goals revolve around maximizing engagement and making impactful connections with our audiences. Through our extensive turnkey booth rental solutions\, we guarantee a seamless experience from concept to dismantling. We focus on creating memorable interactions that resonate with this artistic community. \nVenue & Location\nThe event takes place at the Metropolitan Pavilion\, located at 125 West 18th Street\, New York\, NY\, United States. With ample access for logistics\, exhibitors can set up efficiently and cater to the enthusiastic crowd expected at this vibrant location. For further inquiries\, feel free to contact us at +1 (212) 255 2003. \nNew York\, NY: Our Services\nIn New York\, we DESIGN\, PRODUCE\, INSTALL & DISMANTLE turnkey booth rentals. Our comprehensive scope includes custom concept/design\, modular frames\, branded SEG graphics\, reception/storage areas\, TV mounts\, and on-site installation & dismantling (I&D). With a variety of options available\, we cater to all your exhibition needs. \nCustom Booth Models\nOur Snap Exhibitions Custom Booth Models adapt to various footprints to fit attendee needs effectively. Popular choices include 10×10\, 10×20\, and 20×20 configurations\, ensuring versatility across different spaces at the event. Each design serves to facilitate interaction and enhance product visibility within the Art and Antiques and Photography sectors. We provide excellent full-service exhibit support tailored to your goals. \nTo ensure a perfectly tailored experience\, please contact our team for more information. \nFAQ\nWhat is AFFORDABLE ART FAIR – NEW YORK 2025 booth rental? This opportunity allows exhibitors to showcase their artwork effectively in a design tailored to attract and engage art lovers. \nWhen does AFFORDABLE ART FAIR – NEW YORK 2025 take place? The event runs from September 12–14\, 9:00 AM–5:00 PM. \nWhat booth sizes do you recommend for the Art and Antiques sectors? Recommended booth sizes include 10×10 for small galleries\, and 10×20 or larger for more extensive collections. \nWhy is an aluminum booth better than wood? Aluminum booths are lighter\, more durable\, and environmentally friendly\, making them a preferred choice for modern exhibitions. \nWhat can I expect at the AFFORDABLE ART FAIR – NEW YORK 2025? Expect an engaging atmosphere filled with art enthusiasts\, where exhibitors connect directly with passionate buyers. \nHow can I maximize my experience at the fair? Ensure your booth is well-designed\, consider participant engagement strategies\, and utilize quality display solutions. \nHow can SNAP EXHIBITIONS assist in making everything about my booth perfect? Our dedicated team offers tailored solutions for booth design\, installation\, and full support to ensure your goals are met seamlessly. \nBy choosing an AFFORDABLE ART FAIR – NEW YORK 2025 booth rental\, you are investing in a premium experience crafted to elevate your exhibition presence. Don’t miss out—contact our team and secure your booth today!
URL:https://otc2026.com/event/affordable-art-fair-new-york-2025/
CATEGORIES:Art and Antiques,Photography
END:VEVENT
END:VCALENDAR